BEGIN:VCALENDAR
VERSION:2.0
PRODID:-//Garibaldi Business Association - ECPv6.15.20//NONSGML v1.0//EN
CALSCALE:GREGORIAN
METHOD:PUBLISH
X-WR-CALNAME:Garibaldi Business Association
X-ORIGINAL-URL:https://garibaldi.biz
X-WR-CALDESC:Events for Garibaldi Business Association
REFRESH-INTERVAL;VALUE=DURATION:PT1H
X-Robots-Tag:noindex
X-PUBLISHED-TTL:PT1H
BEGIN:VTIMEZONE
TZID:America/Los_Angeles
BEGIN:DAYLIGHT
TZOFFSETFROM:-0800
TZOFFSETTO:-0700
TZNAME:PDT
DTSTART:20250309T100000
END:DAYLIGHT
BEGIN:STANDARD
TZOFFSETFROM:-0700
TZOFFSETTO:-0800
TZNAME:PST
DTSTART:20251102T090000
END:STANDARD
BEGIN:DAYLIGHT
TZOFFSETFROM:-0800
TZOFFSETTO:-0700
TZNAME:PDT
DTSTART:20260308T100000
END:DAYLIGHT
BEGIN:STANDARD
TZOFFSETFROM:-0700
TZOFFSETTO:-0800
TZNAME:PST
DTSTART:20261101T090000
END:STANDARD
BEGIN:DAYLIGHT
TZOFFSETFROM:-0800
TZOFFSETTO:-0700
TZNAME:PDT
DTSTART:20270314T100000
END:DAYLIGHT
BEGIN:STANDARD
TZOFFSETFROM:-0700
TZOFFSETTO:-0800
TZNAME:PST
DTSTART:20271107T090000
END:STANDARD
END:VTIMEZONE
BEGIN:VEVENT
DTSTART;TZID=America/Los_Angeles:20260322T140000
DTEND;TZID=America/Los_Angeles:20260322T160000
DTSTAMP:20260422T011432
CREATED:20260224T182009Z
LAST-MODIFIED:20260322T200429Z
UID:10003299-1774188000-1774195200@garibaldi.biz
SUMMARY:Barbecuing Hamlet
DESCRIPTION:Barbecuing Hamlet is a comedic play that centers around a small-town community theater group attempting to stage Shakespeare’s Hamlet. Chaos ensues when the group hires a director from NY (Buffalo) who tries to modernize the classic with wild changes…including a community theater set in an old funeral home. The quirky cast\, full of eccentric local actors\, struggles with the language\, staging\, and each other. As rehearsals spiral out of control\, personal dramas and misunderstandings threaten to derail the production. Ultimately\, the play is a hilarious look at artistic ambition clashing with small-town charm. \nBarbecuing Hamlet opens March 13 and runs through March 29. Friday and Saturday shows start at 7:00 pm\, Sunday shows start at 2:00 pm. Tickets are available at: https://tillamooktheater.ludus.com/index.php?sections=events
URL:https://garibaldi.biz/event/barbecuing-hamlet-6/
LOCATION:The Barn Community Playhouse\, 1204 Ivy Ave
CATEGORIES:Community,Theater
ATTACH;FMTTYPE=image/png:https://garibaldi.biz/wp-content/uploads/2026/02/TAPA-Event-Cover-image-1-scaled-dvrsJT.png
END:VEVENT
BEGIN:VEVENT
DTSTART;TZID=America/Los_Angeles:20260322T130000
DTEND;TZID=America/Los_Angeles:20260322T153000
DTSTAMP:20260422T011432
CREATED:20260217T174955Z
LAST-MODIFIED:20260322T200429Z
UID:10003245-1774184400-1774193400@garibaldi.biz
SUMMARY:Paint and Sip
DESCRIPTION:Join us at The Winery at Manzanita\nEnjoy a fun boutique paint class instructed by an Oregonian local artist who is invested in student success and wellbeing. All skill levels are welcome. Step-by-step instruction\, and all materials provided – plus a $10 credit towards your purchase at the winery!
URL:https://garibaldi.biz/event/paint-and-sip/
LOCATION:The Winery at Manzanita\, 253 Laneda Avenue
CATEGORIES:Arts and Culture,Community,Family Fun
ATTACH;FMTTYPE=image/jpeg:https://garibaldi.biz/wp-content/uploads/2026/02/Haystack-YaEz9k.jpg
END:VEVENT
BEGIN:VEVENT
DTSTART;TZID=America/Los_Angeles:20260322T130000
DTEND;TZID=America/Los_Angeles:20260322T150000
DTSTAMP:20260422T011432
CREATED:20260309T192026Z
LAST-MODIFIED:20260322T200429Z
UID:10003383-1774184400-1774191600@garibaldi.biz
SUMMARY:The Winery at Manzanita\, Paint and Sip\, 1-3 pm
DESCRIPTION:Join Dawnings Art Classes and The Winery at Manzanita for Paint & Sip classes! Tickets are $45 which includes all materials\, instruction and $10 towards your purchase. March 22nd and May 10th.
URL:https://garibaldi.biz/event/the-winery-at-manzanita-paint-and-sip-1-3-pm/
LOCATION:The Winery at Manzanita\, 253 Laneda Avenue
CATEGORIES:Community
ATTACH;FMTTYPE=image/jpeg:https://garibaldi.biz/wp-content/uploads/2026/03/Haystack-9lyWKx.jpg
END:VEVENT
BEGIN:VEVENT
DTSTART;TZID=America/Los_Angeles:20260322T120000
DTEND;TZID=America/Los_Angeles:20260322T150000
DTSTAMP:20260422T011432
CREATED:20260318T200455Z
LAST-MODIFIED:20260322T200429Z
UID:10003468-1774180800-1774191600@garibaldi.biz
SUMMARY:Rock the Love
DESCRIPTION:It’s spring and renewal is happening! \nWhat are you longing to see in the world? What do you wish would grow? Want to share your seeds of inspiration? \nCome to the Rock the Love painting event to paint rocks with your messages to the world and then randomly place them in your community for others to witness.  To have grow what we prefer\, let’s “plant” the right seeds!  Our energy and intentions do matter. May our seeds take root nourished by the soil of community. \nAll the materials will be provided and no experience is necessary.  The event is free and open to all ages.  Families welcome. \nSponsored by Heart of Cartm and Fulcrum Community Resources Expressions Lab Program \n  \nwww.heartofcartm.org \nwww.fulcrumresources.org \n 
URL:https://garibaldi.biz/event/rock-the-love/
LOCATION:Heart of Cartm HeartWorks Studio\, 395 Nehalem Blvd
CATEGORIES:Community,Family Fun
ATTACH;FMTTYPE=image/jpeg:https://garibaldi.biz/wp-content/uploads/2026/03/rock-the-love-small-Py1VIt.jpg
END:VEVENT
BEGIN:VEVENT
DTSTART;TZID=America/Los_Angeles:20260322T000000
DTEND;TZID=America/Los_Angeles:20260322T233000
DTSTAMP:20260422T011432
CREATED:20260318T200455Z
LAST-MODIFIED:20260322T200429Z
UID:10003467-1774137600-1774222200@garibaldi.biz
SUMMARY:CALL FOR ART- CALLING NORTH COAST ARTISTS!
DESCRIPTION:Blue Water Fine Art Gallery is now accepting submissions for May Flowers\, our first community exhibition celebrating the colors and renewal of spring along the Oregon Coast. \nArtists may submit up to three original artworks inspired by the May Flowers theme. \nSubmission Deadline: April 21\, 2026 \nThe exhibition runs May 8 – June 6\, with a Community Reception on May 9\, 5–7 PM — free and open to all. \nSubmit your work and help us welcome spring with creativity and community. \nFull details and guidelines on website: \nBlueWaterFineArtGallery.com \nStay connected with upcoming exhibitions and artist calls — sign up for our newsletter at BlueWaterFineArtGallery.com
URL:https://garibaldi.biz/event/call-for-art-calling-north-coast-artists-5/
LOCATION:Blue Water Fine Art Gallery\, 119 S Miller St.\, Rockaway Beach\, OR 97136
CATEGORIES:Arts and Culture,Community
ATTACH;FMTTYPE=image/png:https://garibaldi.biz/wp-content/uploads/2026/03/Call-FOR-ART-PURPLE-ben9Kt.png
END:VEVENT
BEGIN:VEVENT
DTSTART;TZID=America/Los_Angeles:20260321T190000
DTEND;TZID=America/Los_Angeles:20260321T210000
DTSTAMP:20260422T011432
CREATED:20260224T182009Z
LAST-MODIFIED:20260321T200441Z
UID:10003298-1774119600-1774126800@garibaldi.biz
SUMMARY:Barbecuing Hamlet
DESCRIPTION:Barbecuing Hamlet is a comedic play that centers around a small-town community theater group attempting to stage Shakespeare’s Hamlet. Chaos ensues when the group hires a director from NY (Buffalo) who tries to modernize the classic with wild changes…including a community theater set in an old funeral home. The quirky cast\, full of eccentric local actors\, struggles with the language\, staging\, and each other. As rehearsals spiral out of control\, personal dramas and misunderstandings threaten to derail the production. Ultimately\, the play is a hilarious look at artistic ambition clashing with small-town charm. \nBarbecuing Hamlet opens March 13 and runs through March 29. Friday and Saturday shows start at 7:00 pm\, Sunday shows start at 2:00 pm. Tickets are available at: https://tillamooktheater.ludus.com/index.php?sections=events
URL:https://garibaldi.biz/event/barbecuing-hamlet-5/
LOCATION:The Barn Community Playhouse\, 1204 Ivy Ave
CATEGORIES:Community,Theater
ATTACH;FMTTYPE=image/png:https://garibaldi.biz/wp-content/uploads/2026/02/TAPA-Event-Cover-image-1-scaled-dvrsJT.png
END:VEVENT
BEGIN:VEVENT
DTSTART;TZID=America/Los_Angeles:20260321T190000
DTEND;TZID=America/Los_Angeles:20260321T210000
DTSTAMP:20260422T011432
CREATED:20260120T155022Z
LAST-MODIFIED:20260321T200441Z
UID:10003073-1774119600-1774126800@garibaldi.biz
SUMMARY:Live Music!
DESCRIPTION:Live music every Saturday from 7–9pm in The Schooner Lounge—because your weekend deserves a soundtrack. \nKick back to the sounds of local musicians\, stay for the crave-worthy eats\, craft cocktails\, cold beers\, and our fabulous crew who always bring the good vibes. \nCurious who’s playing? Check out our lineup of Oregon-grown talent on our website!
URL:https://garibaldi.biz/event/live-music-41/
LOCATION:The Schooner Restaurant & Lounge\, 2065 Boat Basin Rd
CATEGORIES:Arts and Culture,Live Music
ATTACH;FMTTYPE=image/jpeg:https://garibaldi.biz/wp-content/uploads/2025/05/Schooner-music-scaled-rDOov9.jpg
END:VEVENT
BEGIN:VEVENT
DTSTART;TZID=America/Los_Angeles:20260321T173000
DTEND;TZID=America/Los_Angeles:20260321T203000
DTSTAMP:20260422T011432
CREATED:20260318T200454Z
LAST-MODIFIED:20260321T200441Z
UID:10003466-1774114200-1774125000@garibaldi.biz
SUMMARY:Tillamook Bay Fire District Cape Meares Town Hall
DESCRIPTION:The evening will begin with a short presentation about the proposed Tillamook Bay Fire & Rescue Rural Fire Protection District that is coming to the 2026 May ballot for permanent residents served by fire organizations in the Bay City and Tillamook areas. \nThe presentation will be followed by Q&As\, and then a time to meet and greet with volunteer firefighters\, current board members\, and other advocates for the measure.
URL:https://garibaldi.biz/event/tillamook-bay-fire-district-cape-meares-town-hall/
LOCATION:BARBARA BENNETT COMMUNITY CENTER  (Cape Meares)\, 5690 4th Street NW\, Tillamook OR 97141
CATEGORIES:Community,Education
ATTACH;FMTTYPE=image/png:https://garibaldi.biz/wp-content/uploads/2026/03/Cape-Meares-Town-Hall-yyiJBI.png
END:VEVENT
BEGIN:VEVENT
DTSTART;TZID=America/Los_Angeles:20260321T170000
DTEND;TZID=America/Los_Angeles:20260321T190000
DTSTAMP:20260422T011432
CREATED:20260309T192024Z
LAST-MODIFIED:20260321T200441Z
UID:10003382-1774112400-1774119600@garibaldi.biz
SUMMARY:Woof Pack Wine Club Social\, 3/21\, 5 – 7 pm at The Winery at Manzanita (open to the public)
DESCRIPTION:For those members on the Coast\, we’ll also be holding a Club Social at The Winery at Manzanita\, 5 – 7 pm. RSVP HERE – Wine Club Free for members. Open to the public\, $20 for non-members. Members – email us for coupon code info@thewineryatmanzanita.com
URL:https://garibaldi.biz/event/woof-pack-wine-club-social-3-21-5-7-pm-at-the-winery-at-manzanita-open-to-the-public/
LOCATION:The Winery at Manzanita\, 253 Laneda Avenue
CATEGORIES:Community
ATTACH;FMTTYPE=image/jpeg:https://garibaldi.biz/wp-content/uploads/2026/03/IMG_1238-LZuhP6.jpg
END:VEVENT
BEGIN:VEVENT
DTSTART;TZID=America/Los_Angeles:20260321T000000
DTEND;TZID=America/Los_Angeles:20260321T233000
DTSTAMP:20260422T011432
CREATED:20260318T200453Z
LAST-MODIFIED:20260321T200440Z
UID:10003465-1774051200-1774135800@garibaldi.biz
SUMMARY:CALL FOR ART- CALLING NORTH COAST ARTISTS!
DESCRIPTION:Blue Water Fine Art Gallery is now accepting submissions for May Flowers\, our first community exhibition celebrating the colors and renewal of spring along the Oregon Coast. \nArtists may submit up to three original artworks inspired by the May Flowers theme. \nSubmission Deadline: April 21\, 2026 \nThe exhibition runs May 8 – June 6\, with a Community Reception on May 9\, 5–7 PM — free and open to all. \nSubmit your work and help us welcome spring with creativity and community. \nFull details and guidelines on website: \nBlueWaterFineArtGallery.com \nStay connected with upcoming exhibitions and artist calls — sign up for our newsletter at BlueWaterFineArtGallery.com
URL:https://garibaldi.biz/event/call-for-art-calling-north-coast-artists-4/
LOCATION:Blue Water Fine Art Gallery\, 119 S Miller St.\, Rockaway Beach\, OR 97136
CATEGORIES:Arts and Culture,Community
ATTACH;FMTTYPE=image/png:https://garibaldi.biz/wp-content/uploads/2026/03/Call-FOR-ART-PURPLE-ben9Kt.png
END:VEVENT
END:VCALENDAR