BEGIN:VCALENDAR
VERSION:2.0
PRODID:-//Garibaldi Business Association - ECPv6.15.20//NONSGML v1.0//EN
CALSCALE:GREGORIAN
METHOD:PUBLISH
X-WR-CALNAME:Garibaldi Business Association
X-ORIGINAL-URL:https://garibaldi.biz
X-WR-CALDESC:Events for Garibaldi Business Association
REFRESH-INTERVAL;VALUE=DURATION:PT1H
X-Robots-Tag:noindex
X-PUBLISHED-TTL:PT1H
BEGIN:VTIMEZONE
TZID:America/Los_Angeles
BEGIN:DAYLIGHT
TZOFFSETFROM:-0800
TZOFFSETTO:-0700
TZNAME:PDT
DTSTART:20250309T100000
END:DAYLIGHT
BEGIN:STANDARD
TZOFFSETFROM:-0700
TZOFFSETTO:-0800
TZNAME:PST
DTSTART:20251102T090000
END:STANDARD
BEGIN:DAYLIGHT
TZOFFSETFROM:-0800
TZOFFSETTO:-0700
TZNAME:PDT
DTSTART:20260308T100000
END:DAYLIGHT
BEGIN:STANDARD
TZOFFSETFROM:-0700
TZOFFSETTO:-0800
TZNAME:PST
DTSTART:20261101T090000
END:STANDARD
BEGIN:DAYLIGHT
TZOFFSETFROM:-0800
TZOFFSETTO:-0700
TZNAME:PDT
DTSTART:20270314T100000
END:DAYLIGHT
BEGIN:STANDARD
TZOFFSETFROM:-0700
TZOFFSETTO:-0800
TZNAME:PST
DTSTART:20271107T090000
END:STANDARD
END:VTIMEZONE
BEGIN:VEVENT
DTSTART;TZID=America/Los_Angeles:20260320T190000
DTEND;TZID=America/Los_Angeles:20260320T210000
DTSTAMP:20260421T024129
CREATED:20260224T182004Z
LAST-MODIFIED:20260320T200433Z
UID:10003296-1774033200-1774040400@garibaldi.biz
SUMMARY:Barbecuing Hamlet
DESCRIPTION:Barbecuing Hamlet is a comedic play that centers around a small-town community theater group attempting to stage Shakespeare’s Hamlet. Chaos ensues when the group hires a director from NY (Buffalo) who tries to modernize the classic with wild changes…including a community theater set in an old funeral home. The quirky cast\, full of eccentric local actors\, struggles with the language\, staging\, and each other. As rehearsals spiral out of control\, personal dramas and misunderstandings threaten to derail the production. Ultimately\, the play is a hilarious look at artistic ambition clashing with small-town charm. \nBarbecuing Hamlet opens March 13 and runs through March 29. Friday and Saturday shows start at 7:00 pm\, Sunday shows start at 2:00 pm. Tickets are available at: https://tillamooktheater.ludus.com/index.php?sections=events
URL:https://garibaldi.biz/event/barbecuing-hamlet-4/
LOCATION:The Barn Community Playhouse\, 1204 Ivy Ave
CATEGORIES:Community,Theater
ATTACH;FMTTYPE=image/png:https://garibaldi.biz/wp-content/uploads/2026/02/TAPA-Event-Cover-image-1-scaled-dvrsJT.png
END:VEVENT
BEGIN:VEVENT
DTSTART;TZID=America/Los_Angeles:20260320T163000
DTEND;TZID=America/Los_Angeles:20260320T180000
DTSTAMP:20260421T024129
CREATED:20260317T200443Z
LAST-MODIFIED:20260320T200433Z
UID:10003453-1774024200-1774029600@garibaldi.biz
SUMMARY:Lainey and Company Grand Opening
DESCRIPTION:You’re Invited! Grand Opening & Ribbon Cutting at Lainey and Company! \nThe festivities begin this Friday\, March 20\, with a special Ribbon Cutting ceremony at 4:30 PM. Come explore the beautiful new space at 2018 Henson Plaza (located right on the corner of 2nd and Pacific Ave). \n  \n 
URL:https://garibaldi.biz/event/lainey-and-company-grand-opening/
LOCATION:Downtown Tillamook\, Tillamook\, OR\, 97141\, United States
CATEGORIES:Shopping and Sales
ATTACH;FMTTYPE=image/png:https://garibaldi.biz/wp-content/uploads/2026/03/MonM-image-pud-4-TMTGwV.png
END:VEVENT
BEGIN:VEVENT
DTSTART;TZID=America/Los_Angeles:20260320T153000
DTEND;TZID=America/Los_Angeles:20260320T173000
DTSTAMP:20260421T024129
CREATED:20260309T192019Z
LAST-MODIFIED:20260320T200432Z
UID:10003379-1774020600-1774027800@garibaldi.biz
SUMMARY:Movie Night at Pacific City Library
DESCRIPTION:Join us for a movie on the big screen every third Friday at 3:30 pm!
URL:https://garibaldi.biz/event/movie-night-at-pacific-city-library/
LOCATION:Pacific City Library\, 6200 Camp St Pacific City\, OR
CATEGORIES:Community
ATTACH;FMTTYPE=image/png:https://garibaldi.biz/wp-content/uploads/2026/03/PACIFIC-CITY-MOVIE-NIGHT-032026-TP-clcxRG.png
END:VEVENT
BEGIN:VEVENT
DTSTART;TZID=America/Los_Angeles:20260320T100000
DTEND;TZID=America/Los_Angeles:20260320T200000
DTSTAMP:20260421T024129
CREATED:20260119T155026Z
LAST-MODIFIED:20260320T200432Z
UID:10003065-1774000800-1774036800@garibaldi.biz
SUMMARY:All You Can Eat Fish and Chips
DESCRIPTION:Fresh\, local\, fried rockfish served with coleslaw and crispy french fries. Unlimited fish every Friday $18.99
URL:https://garibaldi.biz/event/all-you-can-eat-fish-and-chips-21/
LOCATION:Fish Peddler at Pacific Oyster\, 5150 Hayes Oyster Dr
CATEGORIES:Community
END:VEVENT
BEGIN:VEVENT
DTSTART;TZID=America/Los_Angeles:20260320T000000
DTEND;TZID=America/Los_Angeles:20260320T233000
DTSTAMP:20260421T024129
CREATED:20260318T200449Z
LAST-MODIFIED:20260320T200430Z
UID:10003462-1773964800-1774049400@garibaldi.biz
SUMMARY:CALL FOR ART- CALLING NORTH COAST ARTISTS!
DESCRIPTION:Blue Water Fine Art Gallery is now accepting submissions for May Flowers\, our first community exhibition celebrating the colors and renewal of spring along the Oregon Coast. \nArtists may submit up to three original artworks inspired by the May Flowers theme. \nSubmission Deadline: April 21\, 2026 \nThe exhibition runs May 8 – June 6\, with a Community Reception on May 9\, 5–7 PM — free and open to all. \nSubmit your work and help us welcome spring with creativity and community. \nFull details and guidelines on website: \nBlueWaterFineArtGallery.com \nStay connected with upcoming exhibitions and artist calls — sign up for our newsletter at BlueWaterFineArtGallery.com
URL:https://garibaldi.biz/event/call-for-art-calling-north-coast-artists-3/
LOCATION:Blue Water Fine Art Gallery\, 119 S Miller St.\, Rockaway Beach\, OR 97136
CATEGORIES:Arts and Culture,Community
ATTACH;FMTTYPE=image/png:https://garibaldi.biz/wp-content/uploads/2026/03/Call-FOR-ART-PURPLE-ben9Kt.png
END:VEVENT
END:VCALENDAR